BEGIN:VCALENDAR
VERSION:2.0
PRODID:-//Biblioteca municipal - ECPv5.7.0//NONSGML v1.0//EN
CALSCALE:GREGORIAN
METHOD:PUBLISH
X-WR-CALNAME:Biblioteca municipal
X-ORIGINAL-URL:https://www.bibliolaroca.cat
X-WR-CALDESC:Events for Biblioteca municipal
BEGIN:VTIMEZONE
TZID:UTC
BEGIN:STANDARD
TZOFFSETFROM:+0000
TZOFFSETTO:+0000
TZNAME:UTC
DTSTART:20250101T000000
END:STANDARD
END:VTIMEZONE
BEGIN:VEVENT
DTSTART;TZID=UTC:20251013T093000
DTEND;TZID=UTC:20251013T120000
DTSTAMP:20260420T114454
CREATED:20250925T144236Z
LAST-MODIFIED:20250925T144236Z
UID:9422-1760347800-1760356800@www.bibliolaroca.cat
SUMMARY:Els Cruspilletres: "Ratolins i rodolins"
DESCRIPTION:Els ratolins passen per tot arreu. També pels llibres\, on poden ser bibliotecaris\, carters\, detectius\,… o poetes! \njugarem amb les paraules i els colors per inventar rimes que sortiran del cor. \n\n\nSessió de foment de lectura amb taller que es realitza dins d’horari escolar.  \nActivitat coordinada i en la qual participen els alumnes de 4t curs de primària de totes les escoles del municipi. \n\n\nA càrrec de: sara Tornos i el personal de la biblioteca
URL:https://www.bibliolaroca.cat/event/els-cruspilletres-ratolins-i-rodolins/
CATEGORIES:Cruspilletres,Infantil
END:VEVENT
END:VCALENDAR