BEGIN:VCALENDAR
VERSION:2.0
PRODID:-//Biblioteca municipal - ECPv5.7.0//NONSGML v1.0//EN
CALSCALE:GREGORIAN
METHOD:PUBLISH
X-WR-CALNAME:Biblioteca municipal
X-ORIGINAL-URL:https://www.bibliolaroca.cat
X-WR-CALDESC:Events for Biblioteca municipal
BEGIN:VTIMEZONE
TZID:UTC
BEGIN:STANDARD
TZOFFSETFROM:+0000
TZOFFSETTO:+0000
TZNAME:UTC
DTSTART:20260101T000000
END:STANDARD
END:VTIMEZONE
BEGIN:VEVENT
DTSTART;TZID=UTC:20260302T150000
DTEND;TZID=UTC:20260306T200000
DTSTAMP:20260420T101504
CREATED:20260225T122056Z
LAST-MODIFIED:20260225T122457Z
UID:12126-1772463600-1772827200@www.bibliolaroca.cat
SUMMARY:Racó 8M Dia internacional de la Dona
DESCRIPTION:Et proposem una selecció bibliogràfica temàtica sobre el 8M on trobaràs biografies\, assajos\, poesia i novel·les que promouen la igualtat\, la visibilitat femenina i el pensament feminista\, i que inclouen recomanacions per a totes les edats. \nVine i emporta-te’ls a casa!
URL:https://www.bibliolaroca.cat/event/raco-8m-dia-internacional-de-la-dona/
CATEGORIES:Adults,Infantil,Joves
END:VEVENT
END:VCALENDAR