BEGIN:VCALENDAR
VERSION:2.0
PRODID:-//Biblioteca municipal - ECPv5.7.0//NONSGML v1.0//EN
CALSCALE:GREGORIAN
METHOD:PUBLISH
X-WR-CALNAME:Biblioteca municipal
X-ORIGINAL-URL:https://www.bibliolaroca.cat
X-WR-CALDESC:Events for Biblioteca municipal
BEGIN:VTIMEZONE
TZID:UTC
BEGIN:STANDARD
TZOFFSETFROM:+0000
TZOFFSETTO:+0000
TZNAME:UTC
DTSTART:20250101T000000
END:STANDARD
END:VTIMEZONE
BEGIN:VEVENT
DTSTART;TZID=UTC:20251013T180000
DTEND;TZID=UTC:20251013T190000
DTSTAMP:20260420T082956
CREATED:20250925T150031Z
LAST-MODIFIED:20250925T150247Z
UID:9425-1760378400-1760382000@www.bibliolaroca.cat
SUMMARY:Taller d'adults per al benestar emocional: "Ioga per reconnectar amb la calma i la presència"
DESCRIPTION:(Setmana de la soledat no desitjada) \nCrearem un espai on recuperar la serenor\, obrir-nos a l’escolta interna i sentir-nos més a prop de nosaltres mateixes i dels altres. \n\n\nPlaces limitades. \n\n\nCal inscripció prèvia al Whats de la Biblioteca: 674 640 308 o al tel.: 938 424 461. \n\n\nA càrrec: Marta Figueras\, Professora de ioga i meditació.
URL:https://www.bibliolaroca.cat/event/taller-dadults-per-al-benestar-emocional-ioga-per-reconnectar-amb-la-calma-i-la-presencia/
CATEGORIES:Adults,Taller
END:VEVENT
END:VCALENDAR