BEGIN:VCALENDAR
VERSION:2.0
PRODID:-//Biblioteca municipal - ECPv5.7.0//NONSGML v1.0//EN
CALSCALE:GREGORIAN
METHOD:PUBLISH
X-WR-CALNAME:Biblioteca municipal
X-ORIGINAL-URL:https://www.bibliolaroca.cat
X-WR-CALDESC:Events for Biblioteca municipal
BEGIN:VTIMEZONE
TZID:UTC
BEGIN:STANDARD
TZOFFSETFROM:+0000
TZOFFSETTO:+0000
TZNAME:UTC
DTSTART:20260101T000000
END:STANDARD
END:VTIMEZONE
BEGIN:VEVENT
DTSTART;TZID=UTC:20260307T110000
DTEND;TZID=UTC:20260307T120000
DTSTAMP:20260420T084040
CREATED:20260225T121308Z
LAST-MODIFIED:20260225T121308Z
UID:12120-1772881200-1772884800@www.bibliolaroca.cat
SUMMARY:Taller de música familiar: "Els bombers"
DESCRIPTION:Ai\, quin foc! Tot cantant i ballant\, ajudem als bombers a apagar el foc \n\n\nUn espai per aprendre i gaudir de la música a través del joc\, l’afecte i la creativitat treballant els vincles familiars i el benestar emocional de l’infant i l’adult. \n\n\nPlaces limitades. Cal inscripció prèvia a la Biblioteca a través del WhatsApp 674 640 308 o bé del telèfon 938 424 461. \n\n\nPer a infants d’entre 1 i 3 anys. \nA càrrec d’Albada Blay (Minimusics)
URL:https://www.bibliolaroca.cat/event/taller-de-musica-familiar-els-bombers/
CATEGORIES:Familiar,Taller
END:VEVENT
END:VCALENDAR