BEGIN:VCALENDAR
VERSION:2.0
PRODID:-//Biblioteca municipal - ECPv5.7.0//NONSGML v1.0//EN
CALSCALE:GREGORIAN
METHOD:PUBLISH
X-WR-CALNAME:Biblioteca municipal
X-ORIGINAL-URL:https://www.bibliolaroca.cat
X-WR-CALDESC:Events for Biblioteca municipal
BEGIN:VTIMEZONE
TZID:UTC
BEGIN:STANDARD
TZOFFSETFROM:+0000
TZOFFSETTO:+0000
TZNAME:UTC
DTSTART:20250101T000000
END:STANDARD
END:VTIMEZONE
BEGIN:VEVENT
DTSTART;TZID=UTC:20251203T173000
DTEND;TZID=UTC:20251203T183000
DTSTAMP:20260420T083022
CREATED:20251124T122108Z
LAST-MODIFIED:20251124T135135Z
UID:12048-1764783000-1764786600@www.bibliolaroca.cat
SUMMARY:Taller infantil de Nadal: "Fem un Tió"
DESCRIPTION:Farem un petit tió que podrem posar al nostre pessebre. \n\n\nPlaces limitades. Cal inscripció prèvia a la Biblioteca a través del WhatsApp 674 640 308 o bé del telèfon 938 424 461. \n\n\nPer a famílies amb infants a partir de 3 anys.
URL:https://www.bibliolaroca.cat/event/taller-infantil-de-nadal-fem-un-tio/
CATEGORIES:Familiar,Taller
END:VEVENT
END:VCALENDAR